BEGIN:VCALENDAR
VERSION:2.0
PRODID:-//Het Zout der Aarde - ECPv6.14.2//NONSGML v1.0//EN
CALSCALE:GREGORIAN
METHOD:PUBLISH
X-ORIGINAL-URL:https://zoutderaarde.nl
X-WR-CALDESC:Events for Het Zout der Aarde
REFRESH-INTERVAL;VALUE=DURATION:PT1H
X-Robots-Tag:noindex
X-PUBLISHED-TTL:PT1H
BEGIN:VTIMEZONE
TZID:UTC
BEGIN:STANDARD
TZOFFSETFROM:+0000
TZOFFSETTO:+0000
TZNAME:UTC
DTSTART:20230101T000000
END:STANDARD
END:VTIMEZONE
BEGIN:VEVENT
DTSTART;VALUE=DATE:20230913
DTEND;VALUE=DATE:20230916
DTSTAMP:20260423T083612
CREATED:20230906T051208Z
LAST-MODIFIED:20230913T163211Z
UID:4473-1694563200-1694822399@zoutderaarde.nl
SUMMARY:Vakantie Bijbelschool Suriname
DESCRIPTION:In deze periode zullen we thuis vasten en bidden.In de avond hebben we een bidstond van 19.30-20.30 uur op locatie in de Christus Triomfatorkerk\, Krabbendijkestraat 255\, Rotterdam.Leer meer over vasten en bidden in de onderstaande video.
URL:https://zoutderaarde.nl/event/vakantie-bijbelschool-suriname/
LOCATION:Koperstraat #3\, Paramaribo\, Suriname\, Koperstraat 3\, Paramaribo\, Suriname
CATEGORIES:Youth
ATTACH;FMTTYPE=image/jpeg:https://zoutderaarde.nl/wp-content/uploads/2023/09/Suriname-shutterstock_1326832142.jpg
END:VEVENT
BEGIN:VEVENT
DTSTART;TZID=UTC:20230917T100000
DTEND;TZID=UTC:20230917T123000
DTSTAMP:20260423T083612
CREATED:20230909T060851Z
LAST-MODIFIED:20230909T154205Z
UID:4471-1694944800-1694953800@zoutderaarde.nl
SUMMARY:Als God zelf ingrijpt
DESCRIPTION:In deze periode zullen we thuis vasten en bidden.In de avond hebben we een bidstond van 19.30-20.30 uur op locatie in de Christus Triomfatorkerk\, Krabbendijkestraat 255\, Rotterdam.Leer meer over vasten en bidden in de onderstaande video.
URL:https://zoutderaarde.nl/event/als-god-zelf-ingrijpt/
LOCATION:Koperstraat #3\, Paramaribo\, Suriname\, Koperstraat 3\, Paramaribo\, Suriname
CATEGORIES:God,Holy,Youth
ATTACH;FMTTYPE=image/jpeg:https://zoutderaarde.nl/wp-content/uploads/2023/09/20230917_Jezus-is-Koning.jpeg
END:VEVENT
END:VCALENDAR