BEGIN:VCALENDAR
VERSION:2.0
PRODID:-//Het Zout der Aarde - ECPv6.14.2//NONSGML v1.0//EN
CALSCALE:GREGORIAN
METHOD:PUBLISH
X-ORIGINAL-URL:https://zoutderaarde.nl
X-WR-CALDESC:Events for Het Zout der Aarde
REFRESH-INTERVAL;VALUE=DURATION:PT1H
X-Robots-Tag:noindex
X-PUBLISHED-TTL:PT1H
BEGIN:VTIMEZONE
TZID:UTC
BEGIN:STANDARD
TZOFFSETFROM:+0000
TZOFFSETTO:+0000
TZNAME:UTC
DTSTART:20230101T000000
END:STANDARD
END:VTIMEZONE
BEGIN:VEVENT
DTSTART;TZID=UTC:20231001T113000
DTEND;TZID=UTC:20281001T010000
DTSTAMP:20260422T224340
CREATED:20230505T103006Z
LAST-MODIFIED:20230930T210248Z
UID:289-1696159800-1853974800@zoutderaarde.nl
SUMMARY:Fundamentencursus 'Een Nieuw Begin'
DESCRIPTION:In deze periode zullen we thuis vasten en bidden.In de avond hebben we een bidstond van 19.30-20.30 uur op locatie in de Christus Triomfatorkerk\, Krabbendijkestraat 255\, Rotterdam.Leer meer over vasten en bidden in de onderstaande video.
URL:https://zoutderaarde.nl/event/new-members-class-who-is-the-god/
LOCATION:Het Zout der Aarde –  Christus Triomfatorkerk\, Krabbendijkestraat 255\, Rotterdam\, Zuid-Holland\, 3086LR\, Netherlands
CATEGORIES:God,Holy,Youth
ATTACH;FMTTYPE=image/jpeg:https://zoutderaarde.nl/wp-content/uploads/2022/12/Fundamentencursus.jpg
ORGANIZER;CN="Pastor Geeta Dissels":MAILTO:geeta@zoutderaarde.nl
END:VEVENT
BEGIN:VEVENT
DTSTART;VALUE=DATE:20231012
DTEND;VALUE=DATE:20231016
DTSTAMP:20260422T224340
CREATED:20230809T155849Z
LAST-MODIFIED:20231005T203743Z
UID:4379-1697068800-1697414399@zoutderaarde.nl
SUMMARY:World Revival Fire Conference '23
DESCRIPTION:In deze periode zullen we thuis vasten en bidden.In de avond hebben we een bidstond van 19.30-20.30 uur op locatie in de Christus Triomfatorkerk\, Krabbendijkestraat 255\, Rotterdam.Leer meer over vasten en bidden in de onderstaande video.
URL:https://zoutderaarde.nl/event/world-revival-fire-conference-23/
LOCATION:Het Zout der Aarde –  Christus Triomfatorkerk\, Krabbendijkestraat 255\, Rotterdam\, Zuid-Holland\, 3086LR\, Netherlands
CATEGORIES:God,Holy,Youth
ATTACH;FMTTYPE=image/jpeg:https://zoutderaarde.nl/wp-content/uploads/2023/06/345631654_905523017220157_4641134139297792868_n.jpg
ORGANIZER;CN="Het Zout der Aarde":MAILTO:info@zoutderaarde.nl
END:VEVENT
END:VCALENDAR